BEGIN:VCALENDAR
VERSION:2.0
PRODID:-//Yellow Studio - ECPv6.15.20//NONSGML v1.0//EN
CALSCALE:GREGORIAN
METHOD:PUBLISH
X-WR-CALNAME:Yellow Studio
X-ORIGINAL-URL:https://yellowstudiony.com
X-WR-CALDESC:Events for Yellow Studio
REFRESH-INTERVAL;VALUE=DURATION:PT1H
X-Robots-Tag:noindex
X-PUBLISHED-TTL:PT1H
BEGIN:VTIMEZONE
TZID:America/New_York
BEGIN:DAYLIGHT
TZOFFSETFROM:-0500
TZOFFSETTO:-0400
TZNAME:EDT
DTSTART:20230312T070000
END:DAYLIGHT
BEGIN:STANDARD
TZOFFSETFROM:-0400
TZOFFSETTO:-0500
TZNAME:EST
DTSTART:20231105T060000
END:STANDARD
BEGIN:DAYLIGHT
TZOFFSETFROM:-0500
TZOFFSETTO:-0400
TZNAME:EDT
DTSTART:20240310T070000
END:DAYLIGHT
BEGIN:STANDARD
TZOFFSETFROM:-0400
TZOFFSETTO:-0500
TZNAME:EST
DTSTART:20241103T060000
END:STANDARD
BEGIN:DAYLIGHT
TZOFFSETFROM:-0500
TZOFFSETTO:-0400
TZNAME:EDT
DTSTART:20250309T070000
END:DAYLIGHT
BEGIN:STANDARD
TZOFFSETFROM:-0400
TZOFFSETTO:-0500
TZNAME:EST
DTSTART:20251102T060000
END:STANDARD
END:VTIMEZONE
BEGIN:VEVENT
DTSTART;TZID=America/New_York:20240713T160000
DTEND;TZID=America/New_York:20240713T180000
DTSTAMP:20260422T110231
CREATED:20240601T161534Z
LAST-MODIFIED:20240601T161534Z
UID:13490-1720886400-1720893600@yellowstudiony.com
SUMMARY:Opening Reception for Natural Tendencies featuring Tomoko Abe\, Natale Adgnot\, Allison Belolan & Christy Sheppard Knell
DESCRIPTION:Join us to celebrate the Artists and view their recent work featured in Natural Tendencies. \nNatural Tendencies\, featuring work by Tomoko Abe\, Natale Adgnot\, Allison Belolan and Christy Sheppard Knell\, is an exploration of human inclinations and how they inform our interactions with nature. Through glass\, fabric\, projection\, ink\, beeswax\, thermoplastic\, horsehair and beyond\, these artists explore the relationship between humanity and nature\, the tension between transience and permanency and the ubiquity of bias\, both conscious and unconscious. Experimenting with unusual materials and allowing them to dictate what takes form serves as a reminder to distinguish between what is designed and what is destined\, and to strike a balance between the two.
URL:https://yellowstudiony.com/event/opening-reception-for-natural-tendencies-featuring-tomoko-abe-natale-adgnot-allison-belolan-christy-sheppard-knell/
CATEGORIES:Art,Community
END:VEVENT
END:VCALENDAR