BEGIN:VCALENDAR
VERSION:2.0
PRODID:-//Yellow Studio - ECPv6.15.20//NONSGML v1.0//EN
CALSCALE:GREGORIAN
METHOD:PUBLISH
X-WR-CALNAME:Yellow Studio
X-ORIGINAL-URL:https://yellowstudiony.com
X-WR-CALDESC:Events for Yellow Studio
REFRESH-INTERVAL;VALUE=DURATION:PT1H
X-Robots-Tag:noindex
X-PUBLISHED-TTL:PT1H
BEGIN:VTIMEZONE
TZID:America/New_York
BEGIN:DAYLIGHT
TZOFFSETFROM:-0500
TZOFFSETTO:-0400
TZNAME:EDT
DTSTART:20230312T070000
END:DAYLIGHT
BEGIN:STANDARD
TZOFFSETFROM:-0400
TZOFFSETTO:-0500
TZNAME:EST
DTSTART:20231105T060000
END:STANDARD
BEGIN:DAYLIGHT
TZOFFSETFROM:-0500
TZOFFSETTO:-0400
TZNAME:EDT
DTSTART:20240310T070000
END:DAYLIGHT
BEGIN:STANDARD
TZOFFSETFROM:-0400
TZOFFSETTO:-0500
TZNAME:EST
DTSTART:20241103T060000
END:STANDARD
BEGIN:DAYLIGHT
TZOFFSETFROM:-0500
TZOFFSETTO:-0400
TZNAME:EDT
DTSTART:20250309T070000
END:DAYLIGHT
BEGIN:STANDARD
TZOFFSETFROM:-0400
TZOFFSETTO:-0500
TZNAME:EST
DTSTART:20251102T060000
END:STANDARD
END:VTIMEZONE
BEGIN:VEVENT
DTSTART;TZID=America/New_York:20240730T183000
DTEND;TZID=America/New_York:20240730T203000
DTSTAMP:20260420T111421
CREATED:20240601T171011Z
LAST-MODIFIED:20240625T185915Z
UID:13503-1722364200-1722371400@yellowstudiony.com
SUMMARY:Book Club: The Personal Librarian by Marie Benedict & Victoria Christopher Murray
DESCRIPTION:Let’s discuss The Personal Librarian – bring questions\, comments and connect with other Yellow Studio Members over this fascinating read. Hosted by Fran Hauser & Emily Winograd Leonard. \nBaked goods by 351 Bakery will be served. \nThis book and many more will be available for purchase from Picture Book at the Yellow Studio Summer Market on Sunday June 23 from 11am to 4pm. Order your book here and select Yellow Studio as the pickup location. Books can be picked up at the Summer Market or after.  \nDESCRIPTION\nA remarkable novel about J. P. Morgan’s personal librarian\, Belle da Costa Greene\, the Black American woman who was forced to hide her true identity and pass as white in order to leave a lasting legacy that enriched our nation\, from New York Times bestselling authors Marie Benedict and Victoria Christopher Murray. \nIn her twenties\, Belle da Costa Greene is hired by J. P. Morgan to curate a collection of rare manuscripts\, books\, and artwork for his newly built Pierpont Morgan Library. Belle becomes a fixture in New York City society and one of the most powerful people in the art and book world\, known for her impeccable taste and shrewd negotiating for critical works as she helps create a world-class collection. \nBut Belle has a secret\, one she must protect at all costs. She was born not Belle da Costa Greene but Belle Marion Greener. She is the daughter of Richard Greener\, the first Black graduate of Harvard and a well-known advocate for equality. Belle’s complexion isn’t dark because of her alleged Portuguese heritage that lets her pass as white–her complexion is dark because she is African American. \nThe Personal Librarian tells the story of an extraordinary woman\, famous for her intellect\, style\, and wit\, and shares the lengths she must go to–for the protection of her family and her legacy–to preserve her carefully crafted white identity in the racist world in which she lives. \nABOUT THE AUTHORS\nMarie Benedict is a lawyer with more than ten years’ experience as a litigator. A graduate of Boston College and the Boston University School of Law\, she is the New York Times and USA Today bestselling author of The Only Woman in the Room\, The Mystery of Mrs. Christie\, Carnegie’s Maid\, The Other Einstein\, and Lady Clementine. All have been translated into multiple languages. She lives in Pittsburgh with her family. \nVictoria Christopher Murray is an acclaimed author with more than one million books in print. She has written more than twenty novels\, including Stand Your Ground\, an NAACP Image Award Winner for Outstanding Fiction and a Library Journal Best Book of the Year. She holds an MBA from the NYU Stern School of Business. \n 
URL:https://yellowstudiony.com/event/book-club-the-personal-librarian-by-marie-benedict-victoria-christopher-murray/
CATEGORIES:Books,Community
END:VEVENT
END:VCALENDAR