BEGIN:VCALENDAR
VERSION:2.0
PRODID:-//Yellow Studio - ECPv6.15.20//NONSGML v1.0//EN
CALSCALE:GREGORIAN
METHOD:PUBLISH
X-WR-CALNAME:Yellow Studio
X-ORIGINAL-URL:https://yellowstudiony.com
X-WR-CALDESC:Events for Yellow Studio
REFRESH-INTERVAL;VALUE=DURATION:PT1H
X-Robots-Tag:noindex
X-PUBLISHED-TTL:PT1H
BEGIN:VTIMEZONE
TZID:America/New_York
BEGIN:DAYLIGHT
TZOFFSETFROM:-0500
TZOFFSETTO:-0400
TZNAME:EDT
DTSTART:20230312T070000
END:DAYLIGHT
BEGIN:STANDARD
TZOFFSETFROM:-0400
TZOFFSETTO:-0500
TZNAME:EST
DTSTART:20231105T060000
END:STANDARD
BEGIN:DAYLIGHT
TZOFFSETFROM:-0500
TZOFFSETTO:-0400
TZNAME:EDT
DTSTART:20240310T070000
END:DAYLIGHT
BEGIN:STANDARD
TZOFFSETFROM:-0400
TZOFFSETTO:-0500
TZNAME:EST
DTSTART:20241103T060000
END:STANDARD
BEGIN:DAYLIGHT
TZOFFSETFROM:-0500
TZOFFSETTO:-0400
TZNAME:EDT
DTSTART:20250309T070000
END:DAYLIGHT
BEGIN:STANDARD
TZOFFSETFROM:-0400
TZOFFSETTO:-0500
TZNAME:EST
DTSTART:20251102T060000
END:STANDARD
END:VTIMEZONE
BEGIN:VEVENT
DTSTART;TZID=America/New_York:20240806T100000
DTEND;TZID=America/New_York:20240806T100000
DTSTAMP:20260420T075012
CREATED:20240601T181625Z
LAST-MODIFIED:20240716T185924Z
UID:13509-1722938400-1722938400@yellowstudiony.com
SUMMARY:Breakfast Club
DESCRIPTION:Okay\, so we’re not starting a Breakfast Club at Yellow Studio (yet)…but with everyone’s busy summer schedules we want to invite all of our Clubs to come together for breakfast. In other words\, a breakfast for all of our Members. We can talk about the books we’re reading\, do some thoughtful networking\, exchange ideas about the creative projects we’re into and share tips on how to sustainably approach summer in Westchester. Yep that covers all of our Clubs. \n\n\n\nJoin us for coffee\, breakfast bites by 351 Bakery and conversation about all the things. \n\n\n\nFor Yellow Studio Members. Please RSVP. This is a FREE event. \n\n\n\nWe’d love to hear from you in the attached survey as we reimagine the Networking Club in the fall. \n\n\n\nNot a Member and curious about joining Yellow Studio? Learn more about Membership and join here.
URL:https://yellowstudiony.com/event/breakfast-club-2/
CATEGORIES:Community
END:VEVENT
END:VCALENDAR