BEGIN:VCALENDAR
VERSION:2.0
PRODID:-//Yellow Studio - ECPv6.15.20//NONSGML v1.0//EN
CALSCALE:GREGORIAN
METHOD:PUBLISH
X-WR-CALNAME:Yellow Studio
X-ORIGINAL-URL:https://yellowstudiony.com
X-WR-CALDESC:Events for Yellow Studio
REFRESH-INTERVAL;VALUE=DURATION:PT1H
X-Robots-Tag:noindex
X-PUBLISHED-TTL:PT1H
BEGIN:VTIMEZONE
TZID:America/New_York
BEGIN:DAYLIGHT
TZOFFSETFROM:-0500
TZOFFSETTO:-0400
TZNAME:EDT
DTSTART:20240310T070000
END:DAYLIGHT
BEGIN:STANDARD
TZOFFSETFROM:-0400
TZOFFSETTO:-0500
TZNAME:EST
DTSTART:20241103T060000
END:STANDARD
BEGIN:DAYLIGHT
TZOFFSETFROM:-0500
TZOFFSETTO:-0400
TZNAME:EDT
DTSTART:20250309T070000
END:DAYLIGHT
BEGIN:STANDARD
TZOFFSETFROM:-0400
TZOFFSETTO:-0500
TZNAME:EST
DTSTART:20251102T060000
END:STANDARD
BEGIN:DAYLIGHT
TZOFFSETFROM:-0500
TZOFFSETTO:-0400
TZNAME:EDT
DTSTART:20260308T070000
END:DAYLIGHT
BEGIN:STANDARD
TZOFFSETFROM:-0400
TZOFFSETTO:-0500
TZNAME:EST
DTSTART:20261101T060000
END:STANDARD
END:VTIMEZONE
BEGIN:VEVENT
DTSTART;TZID=America/New_York:20250621T000000
DTEND;TZID=America/New_York:20250831T000000
DTSTAMP:20260422T080008
CREATED:20250630T203749Z
LAST-MODIFIED:20250827T161231Z
UID:16443-1750464000-1756598400@yellowstudiony.com
SUMMARY:In Bloom: A Floral Art Installation in The Co-Op and Beehive at Yellow Studio
DESCRIPTION:  \n  \nYellow Studio is constantly evolving and exploring new opportunities. Flowers in bloom serve as a visual reminder of the beauty in growth through change. In June\, we are celebrating the third anniversary of Yellow Studio with additional space to display art and expand our engagement with women owned businesses in the community. In this spirit\, Yellow Studio invited women Artists in the community working across all mediums to submit their floral artwork – work that is inspired by or a depiction of flowers. This installation is on view in The Co-Op and Beehive at Yellow Studio from June 21 to August 31. Please note that artwork will rotate in this installation. As artwork is sold\, additional artwork will be hung.  \nPreview and purchase the artwork in In Bloom here.  In the Collections dropdown menu\, please select “In Bloom.” \nArtists on view in this rotating retail installation:  \n\nAlissa Leigh*\nAllison Belolan*\nAnne Doyle\nAriel Feldman\nCarol Paik*\nCathy Skurman\nChristine Knowlton\nChristy Knell*\nElizabeth Elder*\nElizabeth Gourlay*\nGreta Corens\nIlene Fox\nIlene Schwartz-Montesinos\nJane Sims\nJessica Porter*\nJulianne Farella\nKaren Allen\nKate Berg*\nKatie Winterstein Goldberg*\nLily Morgan\nLiz Green\nLori Isola\nLynn Slonaker\nMarci Miles\nMarie McNicholas\nMerrill Greene\nMonica Shulman\nNancy Handler Nikel\nNatalya Khorover\nNiki Pfeiffer\nOrit Daly\nPhoebe Polk*\nRhonda Spevak\nRita Maas\nSuzanne M. Charbonneau\nTeresa Pereira\nValerie Zeman\n\n*Yellow Studio Artist Member \n  \nThe Co-Op and Beehive at Yellow Studio \nHours \nWednesday & Thursday 11 to 5 \nFriday 11 to 6 \nSaturday 11 to 4 \nSunday 12 to 4
URL:https://yellowstudiony.com/event/in-bloom-a-floral-art-installation-in-the-co-op-and-beehive-at-yellow-studio/
CATEGORIES:Art,Community
ATTACH;FMTTYPE=image/png:https://yellowstudiony.com/wp-content/uploads/2025/06/unnamed-2.png
END:VEVENT
BEGIN:VEVENT
DTSTART;TZID=America/New_York:20250821T180000
DTEND;TZID=America/New_York:20250821T200000
DTSTAMP:20260422T080008
CREATED:20250717T161212Z
LAST-MODIFIED:20250729T204709Z
UID:16535-1755799200-1755806400@yellowstudiony.com
SUMMARY:A Simple Approach: Photographing Your Artwork for Submissions & Websites with Angela Strassheim
DESCRIPTION:  \n  \n  \n  \nJoin Angela Strassheim on Thursday August 21 at 6pm for A Simple Approach: Photographing Your Artwork for Submissions & Websites. \nIn this two hour workshop\, Angela will demonstrate an inexpensive and effective way to document your artwork for gallery show submissions and for your website. You will leave with simple tools to make better images inexpensively with what you already have or can purchase affordably. This is an iPhone demo using hot lights you can purchase at any hardware store. These slight adjustments and tricks will provide you with a better outcome and give you the confidence to “do it yourself”! \nPlease bring 1 artwork to photograph that is no larger than 30 inches in any direction. The artwork can be any medium from painting to sculpture to photography. The artwork can be framed or unframed\, with or without glass or plexi. \nSpace is limited to 10 attendees.  \n  \nTickets:  \nSupporter Member: $72 \nArtist & Community Member: $81 \nNon-Member: $90 \n  \nAbout Angela Strassheim \nAngela Strassheim is a photographer and artist based in Easton\, CT.  Shows include Andrea Meislin Gallery\, Honor Frasier Gallery\, Marvelli Gallery\, Aperture Gallery\, Musee de l’Elysee (Lausanne\, Switzerland)\, the Wellcome Trust Collection (London)\, the Israel Museum\, MOCA Jacksonville\, the DeCordova Museum\, Minneapolis Institute of Arts\, Walker Art Center\, National Museum of Women in the Arts\, Museum of Contemporary Photography\, the Art Institute  (Chicago)\, Monterey Museum of Art\, and many others. She was featured in the 2006 Whitney Biennial.  Her work is included in the books Regeneration\, 50 Photographers of Tomorrow (Thames & Hudson & Aperture)\, Presumed Innocence (DeCordova)\, Role Models (Scala)\, and Traces & Omens\, Noorderlicht (Stichting Aurora Borealis).  Other publications include Time Magazine\, Harper’s Bazaar\, New York Times\, Vice\, Scientific America\, Litmus\, Mossless\, Musee\, Art Pulse\, Exit and Wired. \nStrassheim holds an MFA from Yale University and a BFA from Minneapolis College of Art & Design.  She also has a Forensic & Biomedical Photography Certification from Metro-Dade County\, Forensic Imaging Bureau\, Miami\, Florida. She is the recipient of several awards\, including Women in Photography LTI/Lightside Grant\, Bush Fellowship\, McKnight Fellowship\, Jerome Fellowship\, and was a finalist in 2008 for the Les Recontres D’ Arles International Photography Award.  Her work is included in many public and private collections including Art Institute of Chicago\, Whitney Museum of American Art\, Guggenheim Museum\, Yale University Art Museum\, Israel Museum\, General Mills\, Sir Elton John\, Anthony Podesta\, Joe Baio\, Pontus Bonnier\, and Peter Norton.
URL:https://yellowstudiony.com/event/a-simple-approach-photographing-your-artwork-for-submissions-websites-with-angela-strassheim/
CATEGORIES:Art,Business,Community
ATTACH;FMTTYPE=image/png:https://yellowstudiony.com/wp-content/uploads/2025/07/Photographing-Your-Work-Workshop-This-one-2.png
END:VEVENT
END:VCALENDAR