BEGIN:VCALENDAR
VERSION:2.0
PRODID:-//Yellow Studio - ECPv6.15.20//NONSGML v1.0//EN
CALSCALE:GREGORIAN
METHOD:PUBLISH
X-ORIGINAL-URL:https://yellowstudiony.com
X-WR-CALDESC:Events for Yellow Studio
REFRESH-INTERVAL;VALUE=DURATION:PT1H
X-Robots-Tag:noindex
X-PUBLISHED-TTL:PT1H
BEGIN:VTIMEZONE
TZID:America/New_York
BEGIN:DAYLIGHT
TZOFFSETFROM:-0500
TZOFFSETTO:-0400
TZNAME:EDT
DTSTART:20240310T070000
END:DAYLIGHT
BEGIN:STANDARD
TZOFFSETFROM:-0400
TZOFFSETTO:-0500
TZNAME:EST
DTSTART:20241103T060000
END:STANDARD
BEGIN:DAYLIGHT
TZOFFSETFROM:-0500
TZOFFSETTO:-0400
TZNAME:EDT
DTSTART:20250309T070000
END:DAYLIGHT
BEGIN:STANDARD
TZOFFSETFROM:-0400
TZOFFSETTO:-0500
TZNAME:EST
DTSTART:20251102T060000
END:STANDARD
BEGIN:DAYLIGHT
TZOFFSETFROM:-0500
TZOFFSETTO:-0400
TZNAME:EDT
DTSTART:20260308T070000
END:DAYLIGHT
BEGIN:STANDARD
TZOFFSETFROM:-0400
TZOFFSETTO:-0500
TZNAME:EST
DTSTART:20261101T060000
END:STANDARD
END:VTIMEZONE
BEGIN:VEVENT
DTSTART;TZID=America/New_York:20250905T000000
DTEND;TZID=America/New_York:20251130T000000
DTSTAMP:20260422T070336
CREATED:20250827T163244Z
LAST-MODIFIED:20251125T230945Z
UID:16805-1757030400-1764460800@yellowstudiony.com
SUMMARY:In Focus: A Black and White Photography Installation in The Co-Op & Beehive at Yellow Studio
DESCRIPTION:  \n  \n  \nBlack and white photography strips away distraction to reveal the essential. In this curated exhibition\, we celebrate the power of photography to capture emotion\, form\, and story with striking clarity. \n\n\nWe’re excited to showcase the diverse perspectives of women photographers working in this timeless medium through a retail exhibition at The Co-Op and Beehive at Yellow Studio. From intimate portraits to sweeping landscapes\, detailed abstracts to candid street scenes\, “In Focus” brings together artists who embrace the sophisticated elegance and enduring appeal of black and white photography. \n\nPreview and purchase the artwork in In Focus here.  In the Collections dropdown menu\, please select “In Focus.” \nArtists on view in this rotating retail installation:  \n\nAllison Belolan*\nCarol Bouyoucos*\nJennie Carr*\nCarol Chu\nKimberly Crichlow\nAbigail Ekue\nIlene Fox\nJenna Jones\nLynne Lederman\nKaterina Leslie\nJen Mullowney*\nJulie O’Connor\nIlene Schwartz-Montesinos\nMonica Shulman\nRhonda Spevak\n\n*Yellow Studio Artist Member \n  \nThe Co-Op and Beehive at Yellow Studio Hours \nWednesday & Thursday 11 to 5 \nFriday 11 to 6 \nSaturday 11 to 5 \nSunday 12 to 4
URL:https://yellowstudiony.com/event/in-focus-a-black-and-white-photography-installation-in-the-co-op-beehive-at-yellow-studio/
CATEGORIES:Art,Community
ATTACH;FMTTYPE=image/png:https://yellowstudiony.com/wp-content/uploads/2025/08/This-One-9.png
END:VEVENT
END:VCALENDAR