BEGIN:VCALENDAR
VERSION:2.0
PRODID:-//Yellow Studio - ECPv6.15.20//NONSGML v1.0//EN
CALSCALE:GREGORIAN
METHOD:PUBLISH
X-ORIGINAL-URL:https://yellowstudiony.com
X-WR-CALDESC:Events for Yellow Studio
REFRESH-INTERVAL;VALUE=DURATION:PT1H
X-Robots-Tag:noindex
X-PUBLISHED-TTL:PT1H
BEGIN:VTIMEZONE
TZID:America/New_York
BEGIN:DAYLIGHT
TZOFFSETFROM:-0500
TZOFFSETTO:-0400
TZNAME:EDT
DTSTART:20240310T070000
END:DAYLIGHT
BEGIN:STANDARD
TZOFFSETFROM:-0400
TZOFFSETTO:-0500
TZNAME:EST
DTSTART:20241103T060000
END:STANDARD
BEGIN:DAYLIGHT
TZOFFSETFROM:-0500
TZOFFSETTO:-0400
TZNAME:EDT
DTSTART:20250309T070000
END:DAYLIGHT
BEGIN:STANDARD
TZOFFSETFROM:-0400
TZOFFSETTO:-0500
TZNAME:EST
DTSTART:20251102T060000
END:STANDARD
BEGIN:DAYLIGHT
TZOFFSETFROM:-0500
TZOFFSETTO:-0400
TZNAME:EDT
DTSTART:20260308T070000
END:DAYLIGHT
BEGIN:STANDARD
TZOFFSETFROM:-0400
TZOFFSETTO:-0500
TZNAME:EST
DTSTART:20261101T060000
END:STANDARD
END:VTIMEZONE
BEGIN:VEVENT
DTSTART;TZID=America/New_York:20250515T100000
DTEND;TZID=America/New_York:20250515T120000
DTSTAMP:20260420T093734
CREATED:20250424T192808Z
LAST-MODIFIED:20250509T135846Z
UID:15902-1747303200-1747310400@yellowstudiony.com
SUMMARY:Nature & Sustainability Club: Spring Hike at Zofnass Family Preserve
DESCRIPTION:Join us for a scenic 1-hour hike through the beautiful Zofnass Family Preserve on Thursday May 15 at 10am. The Zofnass Family Preserve encompasses rocky woods\, streams and wetlands\, an arboretum\, and\, at 127 acres\, is one of the largest Westchester Land Trust preserves. \nWe’ll park and meet on Joshua Hobby Road\, just off Upper Shad Road (there are a few designated spots available). More information here. We’ll follow the Eastern Loop trail for a relaxed one mile hike through the woods. \nDon’t forget bug spray\, tall socks (the ticks are out in full force)\, sturdy shoes\, and weather-appropriate clothing. \nOrganized by Sarah Ehrlich and Mona Lipson \nMember RSVP required. \nLocation: \nZofnass Family Preserve \n258 Upper Shad Rd. \nPound Ridge\, NY 10576
URL:https://yellowstudiony.com/event/nature-sustainability-club-june-farm-flowers-hike-tour/
CATEGORIES:Community,Nature,Networking
ATTACH;FMTTYPE=image/png:https://yellowstudiony.com/wp-content/uploads/2025/04/Yellow-Studio-Nature-Sustainability-club-4.png
END:VEVENT
END:VCALENDAR