BEGIN:VCALENDAR
VERSION:2.0
PRODID:-//Yellow Studio - ECPv6.15.20//NONSGML v1.0//EN
CALSCALE:GREGORIAN
METHOD:PUBLISH
X-ORIGINAL-URL:https://yellowstudiony.com
X-WR-CALDESC:Events for Yellow Studio
REFRESH-INTERVAL;VALUE=DURATION:PT1H
X-Robots-Tag:noindex
X-PUBLISHED-TTL:PT1H
BEGIN:VTIMEZONE
TZID:America/New_York
BEGIN:DAYLIGHT
TZOFFSETFROM:-0500
TZOFFSETTO:-0400
TZNAME:EDT
DTSTART:20250309T070000
END:DAYLIGHT
BEGIN:STANDARD
TZOFFSETFROM:-0400
TZOFFSETTO:-0500
TZNAME:EST
DTSTART:20251102T060000
END:STANDARD
BEGIN:DAYLIGHT
TZOFFSETFROM:-0500
TZOFFSETTO:-0400
TZNAME:EDT
DTSTART:20260308T070000
END:DAYLIGHT
BEGIN:STANDARD
TZOFFSETFROM:-0400
TZOFFSETTO:-0500
TZNAME:EST
DTSTART:20261101T060000
END:STANDARD
BEGIN:DAYLIGHT
TZOFFSETFROM:-0500
TZOFFSETTO:-0400
TZNAME:EDT
DTSTART:20270314T070000
END:DAYLIGHT
BEGIN:STANDARD
TZOFFSETFROM:-0400
TZOFFSETTO:-0500
TZNAME:EST
DTSTART:20271107T060000
END:STANDARD
END:VTIMEZONE
BEGIN:VEVENT
DTSTART;TZID=America/New_York:20260420T183000
DTEND;TZID=America/New_York:20260420T200000
DTSTAMP:20260420T100804
CREATED:20260326T122954Z
LAST-MODIFIED:20260408T161519Z
UID:18748-1776709800-1776715200@yellowstudiony.com
SUMMARY:Nature & Sustainability Club: Play on 4/20 - The Craft of Infusion
DESCRIPTION:Join us at Yellow Studio on Monday\, April 20 at 6:30pm for a special 4/20 gathering hosted by the Nature & Sustainability Club—an evening centered on community\, creativity\, and plant-based connection. \nWe’re welcoming local Yellow Studio Member\, Jaime Gorman from Highland Goat\, a women-owned and operated cannabis infused gummy company\, based in the Hudson Valley\, for an immersive and educational workshop where participants will learn to create their own infused body oil. \nThoughtfully guided and approachable\, this experience is designed for both the canna-curious and the well-versed alike. \nAlongside the workshop\, guests can enjoy a curated spread of snacks from local businesses\, refreshing drinks\, and a selection of samples to take home. \nThis is less about formality and more about atmosphere—come spend time with good people\, learn something new\, and celebrate 4/20 in a way that feels grounded\, creative\, and just a little bit indulgent. \nGet your tickets today! \nAbout Jaime Gorman \nA life-long connoisseur of cannabis\, Jaime made the decision eight years ago to turn her passion into a profession by taking the leap\ninto the wonderful\, and often-times challenging and complex\, world of legalized cannabis. \nAfter finding the right partner and building out the right concept throughout the Covid induced lockdowns\, Jaime and her co-founder\,\nLaurel Mason\, recently became one of the first fully licensed New York state cannabis processors through their company— Highland Goat. \nHighland Goat can be found in local dispensaries with truly unique products: naturally infused vegan gummy gems and full spectrum\ntopicals containing no chemicals or toxins\, all while staying true to an ethos of sustainability\, transparency\, empowering women\, and\nfighting the good fight for sister cannabis. \n 
URL:https://yellowstudiony.com/event/nature-sustainability-club-play-on-4-20-the-craft-of-infusion/
CATEGORIES:Community,Nature,Wellness
ATTACH;FMTTYPE=image/png:https://yellowstudiony.com/wp-content/uploads/2026/03/Gummie-education-tv-approved.png
END:VEVENT
BEGIN:VEVENT
DTSTART;TZID=America/New_York:20260430T000000
DTEND;TZID=America/New_York:20260430T000000
DTSTAMP:20260420T100804
CREATED:20260327T153233Z
LAST-MODIFIED:20260418T112855Z
UID:18757-1777507200-1777507200@yellowstudiony.com
SUMMARY:Spring Flower Subscription CSA by FlowerHouse at Anther Farm
DESCRIPTION:The FlowerHouse 4 week Spring Flower Subscription is available for pick up at The Co-Op at Yellow Studio! CSA subscribers will receive the best of the weekly harvest arranged in signature FlowerHouse style. \n$160 for 4 week subscription \nFirst pickup date is Thursday April 30 \nOur bouquets are known to evolve like a garden changing throughout the week\, with surprises that often surpass expectation. Our flowers are grown sustainably and free from harmful chemicals and floral preservatives so that you and the pollinators can enjoy the touch\, smell\, sight and botanical benefits in each bouquet. \nCSA subscriptions are available for pick up on Thursday afternoon-Sunday in The Co-Op at Yellow Studio.  \nThe Co-Op at Yellow Studio\n792 Route 35 Cross River\, NY \nHelp us spread the beauty of the local harvest and reduce your reliance on shipped\, chemically treated flowers. We grow using local resources\, organic methods\, and sustainable practices. \nSign up by April 28 \n  \nAbout The FlowerHouse at Anther Farm \nEstablished in the year 2020\, The FlowerHouse at Anther Farm stands as your go-to local destination for freshly cultivated flowers from Westchester County’s fields. With two decades of expertise in professional gardening and managing garden centers\, Myra and her partner embarked on their dream of owning a flower farm. The inception of The FlowerHouse occurred during the summer of 2020 when the significance of horticulture rapidly escalated due to its essential nature. Flowers ceased to be solely a luxury or hobby; they emerged as vital elements connecting people with nature through vibrant blooms. Backed by years spent nurturing three daughters and tending to elderly parents\, this couple feels well-prepared to offer floral nourishment to their community. Viewing flowers not just as decorative items but also as providers of mental well-being\, The FlowerHouse ensures that each bloom retains its natural essence amidst today’s mass production practices.
URL:https://yellowstudiony.com/event/spring-flower-subscription-csa-by-flowerhouse-at-anther-farm/
CATEGORIES:Community,Nature,Sustainability,Wellness
ATTACH;FMTTYPE=image/png:https://yellowstudiony.com/wp-content/uploads/2026/03/Spring-2026-CSA-Approved.png
END:VEVENT
BEGIN:VEVENT
DTSTART;TZID=America/New_York:20260513T180000
DTEND;TZID=America/New_York:20260513T180000
DTSTAMP:20260420T100804
CREATED:20260415T202134Z
LAST-MODIFIED:20260417T213147Z
UID:18926-1778695200-1778695200@yellowstudiony.com
SUMMARY:Nature & Sustainability Club: Re-Wilding Workshop - Weave\, Gather\, Create with Rebecca Rivard
DESCRIPTION:Join the Yellow Studio Nature & Sustainability Club on Wednesday\, May 13 at 6pm for Re-Wilding Workshop: Weave\, Gather\, Create with Rebecca Rivard. This hands-on outdoor workshop is centered on creativity\, sustainability\, and connection to the natural world. \nSet against the landscape of Ward Pound Ridge\, this special gathering invites you to slow down and create a small woven pouch using thrifted and secondhand yarns and fibers\, along with simple recycled cardboard looms. \n As part of the experience\, we’ll spend time exploring and gently foraging for natural materials—twigs\, grasses\, leaves\, and found elements—that can be woven into your piece or used as unique closures and finishing details. \nInspired by the idea of re-wilding\, this workshop encourages a return to intuitive making\, using what is around us and reimagining discarded materials with care and creativity. No prior weaving experience is needed—just a willingness to explore\, experiment\, and connect. \nParticipants will leave with a one-of-a-kind woven pouch and a renewed appreciation for the beauty of natural and repurposed materials. \n  \nAbout Rebecca Rivard \nRebecca Rivard is a multidisciplinary artist\, painter\, and composer working across paint\, sound\, and mixed media. Rooted in experimentation and intuitive process\, her work often incorporates natural and repurposed materials\, guided in part by an interest in “rewilding”\, returning materials and methods to a more tactile\, instinctive state. She brings this same spirit of curiosity and openness into her workshops\, encouraging participants to explore\, experiment\, and engage with materials in new ways.
URL:https://yellowstudiony.com/event/nature-sustainability-club-re-wilding-workshop-weave-gather-create/
CATEGORIES:Art,Community,Nature,Sustainability
ATTACH;FMTTYPE=image/png:https://yellowstudiony.com/wp-content/uploads/2026/04/TV-apprvd-Nature-Sustainability-apprvd-1.png
END:VEVENT
END:VCALENDAR