BEGIN:VCALENDAR
VERSION:2.0
PRODID:-//Yellow Studio - ECPv6.15.20//NONSGML v1.0//EN
CALSCALE:GREGORIAN
METHOD:PUBLISH
X-WR-CALNAME:Yellow Studio
X-ORIGINAL-URL:https://yellowstudiony.com
X-WR-CALDESC:Events for Yellow Studio
REFRESH-INTERVAL;VALUE=DURATION:PT1H
X-Robots-Tag:noindex
X-PUBLISHED-TTL:PT1H
BEGIN:VTIMEZONE
TZID:America/New_York
BEGIN:DAYLIGHT
TZOFFSETFROM:-0500
TZOFFSETTO:-0400
TZNAME:EDT
DTSTART:20240310T070000
END:DAYLIGHT
BEGIN:STANDARD
TZOFFSETFROM:-0400
TZOFFSETTO:-0500
TZNAME:EST
DTSTART:20241103T060000
END:STANDARD
BEGIN:DAYLIGHT
TZOFFSETFROM:-0500
TZOFFSETTO:-0400
TZNAME:EDT
DTSTART:20250309T070000
END:DAYLIGHT
BEGIN:STANDARD
TZOFFSETFROM:-0400
TZOFFSETTO:-0500
TZNAME:EST
DTSTART:20251102T060000
END:STANDARD
BEGIN:DAYLIGHT
TZOFFSETFROM:-0500
TZOFFSETTO:-0400
TZNAME:EDT
DTSTART:20260308T070000
END:DAYLIGHT
BEGIN:STANDARD
TZOFFSETFROM:-0400
TZOFFSETTO:-0500
TZNAME:EST
DTSTART:20261101T060000
END:STANDARD
END:VTIMEZONE
BEGIN:VEVENT
DTSTART;TZID=America/New_York:20250801T000000
DTEND;TZID=America/New_York:20251031T000000
DTSTAMP:20260420T081204
CREATED:20250731T165254Z
LAST-MODIFIED:20251006T135822Z
UID:16620-1754006400-1761868800@yellowstudiony.com
SUMMARY:Prelove You at Yellow Studio
DESCRIPTION:  \n  \n  \nCircular Fashion for Growing Families – Now with Locker Pick-Up and Drop-Off at The Co-Op at Yellow Studio! \nPrelove You is a membership-based children’s clothing exchange designed to simplify shopping\, save money\, and reduce waste. Perfect for families with kids from birth to age 12\, our credit-based platform lets you send in the clothes they’ve outgrown and shop for preloved styles at any time. Check out Prelove You and start your membership here. \nHow it works: \n\nChoose your membership: Light\, Luxe\, or Limitless\nSend in outgrown or unused clothes—we accept items in great condition and pieces with stains or holes\nWe grade the items and award credits (including 1 credit for every upcycled item)\nUse your credits to shop our online boutique\nPick up or drop off your orders right here at Yellow Studio using our dedicated Prelove You locker\n\nEven better? Stop by The Co-Op at Yellow Studio to grab a free one-month membership card\, valid for any tier. Give us a try\, fall in love with the convenience\, and join the movement to dress the future responsibly. \nBonus! Read all about Prelove You in Fast Company here.
URL:https://yellowstudiony.com/event/prelove-you-at-yellow-studio/
CATEGORIES:Community,Sustainability
ATTACH;FMTTYPE=image/png:https://yellowstudiony.com/wp-content/uploads/2025/07/Flower-Hose-Tour-Nature-sustainabilty-Club-Instagram-Post-45-4.png
END:VEVENT
END:VCALENDAR