BEGIN:VCALENDAR
VERSION:2.0
PRODID:-//Yellow Studio - ECPv6.15.20//NONSGML v1.0//EN
CALSCALE:GREGORIAN
METHOD:PUBLISH
X-ORIGINAL-URL:https://yellowstudiony.com
X-WR-CALDESC:Events for Yellow Studio
REFRESH-INTERVAL;VALUE=DURATION:PT1H
X-Robots-Tag:noindex
X-PUBLISHED-TTL:PT1H
BEGIN:VTIMEZONE
TZID:America/New_York
BEGIN:DAYLIGHT
TZOFFSETFROM:-0500
TZOFFSETTO:-0400
TZNAME:EDT
DTSTART:20250309T070000
END:DAYLIGHT
BEGIN:STANDARD
TZOFFSETFROM:-0400
TZOFFSETTO:-0500
TZNAME:EST
DTSTART:20251102T060000
END:STANDARD
BEGIN:DAYLIGHT
TZOFFSETFROM:-0500
TZOFFSETTO:-0400
TZNAME:EDT
DTSTART:20260308T070000
END:DAYLIGHT
BEGIN:STANDARD
TZOFFSETFROM:-0400
TZOFFSETTO:-0500
TZNAME:EST
DTSTART:20261101T060000
END:STANDARD
BEGIN:DAYLIGHT
TZOFFSETFROM:-0500
TZOFFSETTO:-0400
TZNAME:EDT
DTSTART:20270314T070000
END:DAYLIGHT
BEGIN:STANDARD
TZOFFSETFROM:-0400
TZOFFSETTO:-0500
TZNAME:EST
DTSTART:20271107T060000
END:STANDARD
END:VTIMEZONE
BEGIN:VEVENT
DTSTART;TZID=America/New_York:20260430T000000
DTEND;TZID=America/New_York:20260430T000000
DTSTAMP:20260420T112801
CREATED:20260327T153233Z
LAST-MODIFIED:20260418T112855Z
UID:18757-1777507200-1777507200@yellowstudiony.com
SUMMARY:Spring Flower Subscription CSA by FlowerHouse at Anther Farm
DESCRIPTION:The FlowerHouse 4 week Spring Flower Subscription is available for pick up at The Co-Op at Yellow Studio! CSA subscribers will receive the best of the weekly harvest arranged in signature FlowerHouse style. \n$160 for 4 week subscription \nFirst pickup date is Thursday April 30 \nOur bouquets are known to evolve like a garden changing throughout the week\, with surprises that often surpass expectation. Our flowers are grown sustainably and free from harmful chemicals and floral preservatives so that you and the pollinators can enjoy the touch\, smell\, sight and botanical benefits in each bouquet. \nCSA subscriptions are available for pick up on Thursday afternoon-Sunday in The Co-Op at Yellow Studio.  \nThe Co-Op at Yellow Studio\n792 Route 35 Cross River\, NY \nHelp us spread the beauty of the local harvest and reduce your reliance on shipped\, chemically treated flowers. We grow using local resources\, organic methods\, and sustainable practices. \nSign up by April 28 \n  \nAbout The FlowerHouse at Anther Farm \nEstablished in the year 2020\, The FlowerHouse at Anther Farm stands as your go-to local destination for freshly cultivated flowers from Westchester County’s fields. With two decades of expertise in professional gardening and managing garden centers\, Myra and her partner embarked on their dream of owning a flower farm. The inception of The FlowerHouse occurred during the summer of 2020 when the significance of horticulture rapidly escalated due to its essential nature. Flowers ceased to be solely a luxury or hobby; they emerged as vital elements connecting people with nature through vibrant blooms. Backed by years spent nurturing three daughters and tending to elderly parents\, this couple feels well-prepared to offer floral nourishment to their community. Viewing flowers not just as decorative items but also as providers of mental well-being\, The FlowerHouse ensures that each bloom retains its natural essence amidst today’s mass production practices.
URL:https://yellowstudiony.com/event/spring-flower-subscription-csa-by-flowerhouse-at-anther-farm/
CATEGORIES:Community,Nature,Sustainability,Wellness
ATTACH;FMTTYPE=image/png:https://yellowstudiony.com/wp-content/uploads/2026/03/Spring-2026-CSA-Approved.png
END:VEVENT
END:VCALENDAR